BEGIN:VCALENDAR
VERSION:2.0
PRODID:-//Lendvay-Ensemble - ECPv6.15.20//NONSGML v1.0//EN
CALSCALE:GREGORIAN
METHOD:PUBLISH
X-ORIGINAL-URL:https://lendvay-ensemble.com
X-WR-CALDESC:Events for Lendvay-Ensemble
REFRESH-INTERVAL;VALUE=DURATION:PT1H
X-Robots-Tag:noindex
X-PUBLISHED-TTL:PT1H
BEGIN:VTIMEZONE
TZID:Europe/Amsterdam
BEGIN:DAYLIGHT
TZOFFSETFROM:+0100
TZOFFSETTO:+0200
TZNAME:CEST
DTSTART:20250330T010000
END:DAYLIGHT
BEGIN:STANDARD
TZOFFSETFROM:+0200
TZOFFSETTO:+0100
TZNAME:CET
DTSTART:20251026T010000
END:STANDARD
BEGIN:DAYLIGHT
TZOFFSETFROM:+0100
TZOFFSETTO:+0200
TZNAME:CEST
DTSTART:20260329T010000
END:DAYLIGHT
BEGIN:STANDARD
TZOFFSETFROM:+0200
TZOFFSETTO:+0100
TZNAME:CET
DTSTART:20261025T010000
END:STANDARD
BEGIN:DAYLIGHT
TZOFFSETFROM:+0100
TZOFFSETTO:+0200
TZNAME:CEST
DTSTART:20270328T010000
END:DAYLIGHT
BEGIN:STANDARD
TZOFFSETFROM:+0200
TZOFFSETTO:+0100
TZNAME:CET
DTSTART:20271031T010000
END:STANDARD
END:VTIMEZONE
BEGIN:VEVENT
DTSTART;TZID=Europe/Amsterdam:20260411T080000
DTEND;TZID=Europe/Amsterdam:20260411T170000
DTSTAMP:20260421T103747
CREATED:20251130T175011Z
LAST-MODIFIED:20251130T175012Z
UID:283-1775894400-1775926800@lendvay-ensemble.com
SUMMARY:"Incontri Europei con la Musica" - Bergamo\, Sala Piatti
DESCRIPTION:Lendvay Trio\n\n\n\n\nJózsef Lendvay\, Violin\n\n\n\nLetitia Maulá\, Clarinet\n\n\n\nKatja Dirven\, Cello
URL:https://lendvay-ensemble.com/event/incontri-europei-con-la-musica-bergamo-sala-piatti/
LOCATION:Sala Piatti\, Via S. Salvatore 4\, BErgamo\, 24129\, Italy
ATTACH;FMTTYPE=image/jpeg:https://lendvay-ensemble.com/wp-content/uploads/2025/10/Jozsef_Katja_Laetizia.jpg
END:VEVENT
END:VCALENDAR